BEGIN:VCALENDAR
VERSION:2.0
PRODID:-//Back Porch Meetings//backporchmeetings.org//
X-WR-CALNAME:Back Porch Chairperson Calendar - June 2026
BEGIN:VEVENT
SUMMARY:Daily Literature-based Meeting
DTSTART:20260601T173000
DTEND:20260601T183000
UID:meeting-661@backporchmeetings.org
DESCRIPTION:AA-approved literature only\n\nChair: No chair yet
LOCATION:Online
URL:https://backporch-chair-app-35851db28c9c.herokuapp.com/meeting/661
END:VEVENT
BEGIN:VEVENT
SUMMARY:Daily Literature-based Meeting
DTSTART:20260602T173000
DTEND:20260602T183000
UID:meeting-662@backporchmeetings.org
DESCRIPTION:AA-approved literature only\n\nChair: No chair yet
LOCATION:Online
URL:https://backporch-chair-app-35851db28c9c.herokuapp.com/meeting/662
END:VEVENT
BEGIN:VEVENT
SUMMARY:Daily Literature-based Meeting
DTSTART:20260603T173000
DTEND:20260603T183000
UID:meeting-663@backporchmeetings.org
DESCRIPTION:AA-approved literature only\n\nChair: No chair yet
LOCATION:Online
URL:https://backporch-chair-app-35851db28c9c.herokuapp.com/meeting/663
END:VEVENT
BEGIN:VEVENT
SUMMARY:Daily Literature-based Meeting
DTSTART:20260604T173000
DTEND:20260604T183000
UID:meeting-664@backporchmeetings.org
DESCRIPTION:AA-approved literature only\n\nChair: No chair yet
LOCATION:Online
URL:https://backporch-chair-app-35851db28c9c.herokuapp.com/meeting/664
END:VEVENT
BEGIN:VEVENT
SUMMARY:Daily Literature-based Meeting
DTSTART:20260605T173000
DTEND:20260605T183000
UID:meeting-665@backporchmeetings.org
DESCRIPTION:AA-approved literature only\n\nChair: No chair yet
LOCATION:Online
URL:https://backporch-chair-app-35851db28c9c.herokuapp.com/meeting/665
END:VEVENT
BEGIN:VEVENT
SUMMARY:Women's Meeting
DTSTART:20260606T083000
DTEND:20260606T093000
UID:meeting-694@backporchmeetings.org
DESCRIPTION:Women only\n\nChair: No chair yet
LOCATION:Online
URL:https://backporch-chair-app-35851db28c9c.herokuapp.com/meeting/694
END:VEVENT
BEGIN:VEVENT
SUMMARY:Daily Literature-based Meeting
DTSTART:20260606T173000
DTEND:20260606T183000
UID:meeting-666@backporchmeetings.org
DESCRIPTION:AA-approved literature only\n\nChair: No chair yet
LOCATION:Online
URL:https://backporch-chair-app-35851db28c9c.herokuapp.com/meeting/666
END:VEVENT
BEGIN:VEVENT
SUMMARY:Co-ed Meeting
DTSTART:20260607T083000
DTEND:20260607T093000
UID:meeting-706@backporchmeetings.org
DESCRIPTION:Co-ed\n\nChair: No chair yet
LOCATION:Online
URL:https://backporch-chair-app-35851db28c9c.herokuapp.com/meeting/706
END:VEVENT
BEGIN:VEVENT
SUMMARY:Men's Meeting
DTSTART:20260607T153000
DTEND:20260607T163000
UID:meeting-718@backporchmeetings.org
DESCRIPTION:Men only\n\nChair: No chair yet
LOCATION:Online
URL:https://backporch-chair-app-35851db28c9c.herokuapp.com/meeting/718
END:VEVENT
BEGIN:VEVENT
SUMMARY:Daily Literature-based Meeting
DTSTART:20260607T173000
DTEND:20260607T183000
UID:meeting-667@backporchmeetings.org
DESCRIPTION:AA-approved literature only\n\nChair: No chair yet
LOCATION:Online
URL:https://backporch-chair-app-35851db28c9c.herokuapp.com/meeting/667
END:VEVENT
BEGIN:VEVENT
SUMMARY:Daily Literature-based Meeting
DTSTART:20260608T173000
DTEND:20260608T183000
UID:meeting-668@backporchmeetings.org
DESCRIPTION:AA-approved literature only\n\nChair: No chair yet
LOCATION:Online
URL:https://backporch-chair-app-35851db28c9c.herokuapp.com/meeting/668
END:VEVENT
BEGIN:VEVENT
SUMMARY:Daily Literature-based Meeting
DTSTART:20260609T173000
DTEND:20260609T183000
UID:meeting-669@backporchmeetings.org
DESCRIPTION:AA-approved literature only\n\nChair: No chair yet
LOCATION:Online
URL:https://backporch-chair-app-35851db28c9c.herokuapp.com/meeting/669
END:VEVENT
BEGIN:VEVENT
SUMMARY:Daily Literature-based Meeting
DTSTART:20260610T173000
DTEND:20260610T183000
UID:meeting-670@backporchmeetings.org
DESCRIPTION:AA-approved literature only\n\nChair: No chair yet
LOCATION:Online
URL:https://backporch-chair-app-35851db28c9c.herokuapp.com/meeting/670
END:VEVENT
BEGIN:VEVENT
SUMMARY:Daily Literature-based Meeting
DTSTART:20260611T173000
DTEND:20260611T183000
UID:meeting-671@backporchmeetings.org
DESCRIPTION:AA-approved literature only\n\nChair: No chair yet
LOCATION:Online
URL:https://backporch-chair-app-35851db28c9c.herokuapp.com/meeting/671
END:VEVENT
BEGIN:VEVENT
SUMMARY:Daily Literature-based Meeting
DTSTART:20260612T173000
DTEND:20260612T183000
UID:meeting-672@backporchmeetings.org
DESCRIPTION:AA-approved literature only\n\nChair: No chair yet
LOCATION:Online
URL:https://backporch-chair-app-35851db28c9c.herokuapp.com/meeting/672
END:VEVENT
BEGIN:VEVENT
SUMMARY:Women's Meeting
DTSTART:20260613T083000
DTEND:20260613T093000
UID:meeting-695@backporchmeetings.org
DESCRIPTION:Women only\n\nChair: No chair yet
LOCATION:Online
URL:https://backporch-chair-app-35851db28c9c.herokuapp.com/meeting/695
END:VEVENT
BEGIN:VEVENT
SUMMARY:Daily Literature-based Meeting
DTSTART:20260613T173000
DTEND:20260613T183000
UID:meeting-673@backporchmeetings.org
DESCRIPTION:AA-approved literature only\n\nChair: No chair yet
LOCATION:Online
URL:https://backporch-chair-app-35851db28c9c.herokuapp.com/meeting/673
END:VEVENT
BEGIN:VEVENT
SUMMARY:Co-ed Meeting
DTSTART:20260614T083000
DTEND:20260614T093000
UID:meeting-707@backporchmeetings.org
DESCRIPTION:Co-ed\n\nChair: No chair yet
LOCATION:Online
URL:https://backporch-chair-app-35851db28c9c.herokuapp.com/meeting/707
END:VEVENT
BEGIN:VEVENT
SUMMARY:Men's Meeting
DTSTART:20260614T153000
DTEND:20260614T163000
UID:meeting-719@backporchmeetings.org
DESCRIPTION:Men only\n\nChair: No chair yet
LOCATION:Online
URL:https://backporch-chair-app-35851db28c9c.herokuapp.com/meeting/719
END:VEVENT
BEGIN:VEVENT
SUMMARY:Daily Literature-based Meeting
DTSTART:20260614T173000
DTEND:20260614T183000
UID:meeting-674@backporchmeetings.org
DESCRIPTION:AA-approved literature only\n\nChair: No chair yet
LOCATION:Online
URL:https://backporch-chair-app-35851db28c9c.herokuapp.com/meeting/674
END:VEVENT
BEGIN:VEVENT
SUMMARY:Daily Literature-based Meeting
DTSTART:20260615T173000
DTEND:20260615T183000
UID:meeting-675@backporchmeetings.org
DESCRIPTION:AA-approved literature only\n\nChair: No chair yet
LOCATION:Online
URL:https://backporch-chair-app-35851db28c9c.herokuapp.com/meeting/675
END:VEVENT
BEGIN:VEVENT
SUMMARY:Daily Literature-based Meeting
DTSTART:20260616T173000
DTEND:20260616T183000
UID:meeting-676@backporchmeetings.org
DESCRIPTION:AA-approved literature only\n\nChair: No chair yet
LOCATION:Online
URL:https://backporch-chair-app-35851db28c9c.herokuapp.com/meeting/676
END:VEVENT
BEGIN:VEVENT
SUMMARY:Daily Literature-based Meeting
DTSTART:20260617T173000
DTEND:20260617T183000
UID:meeting-677@backporchmeetings.org
DESCRIPTION:AA-approved literature only\n\nChair: No chair yet
LOCATION:Online
URL:https://backporch-chair-app-35851db28c9c.herokuapp.com/meeting/677
END:VEVENT
BEGIN:VEVENT
SUMMARY:Daily Literature-based Meeting
DTSTART:20260618T173000
DTEND:20260618T183000
UID:meeting-678@backporchmeetings.org
DESCRIPTION:AA-approved literature only\n\nChair: No chair yet
LOCATION:Online
URL:https://backporch-chair-app-35851db28c9c.herokuapp.com/meeting/678
END:VEVENT
BEGIN:VEVENT
SUMMARY:Daily Literature-based Meeting
DTSTART:20260619T173000
DTEND:20260619T183000
UID:meeting-679@backporchmeetings.org
DESCRIPTION:AA-approved literature only\n\nChair: No chair yet
LOCATION:Online
URL:https://backporch-chair-app-35851db28c9c.herokuapp.com/meeting/679
END:VEVENT
BEGIN:VEVENT
SUMMARY:Women's Meeting
DTSTART:20260620T083000
DTEND:20260620T093000
UID:meeting-696@backporchmeetings.org
DESCRIPTION:Women only\n\nChair: No chair yet
LOCATION:Online
URL:https://backporch-chair-app-35851db28c9c.herokuapp.com/meeting/696
END:VEVENT
BEGIN:VEVENT
SUMMARY:Daily Literature-based Meeting
DTSTART:20260620T173000
DTEND:20260620T183000
UID:meeting-680@backporchmeetings.org
DESCRIPTION:AA-approved literature only\n\nChair: No chair yet
LOCATION:Online
URL:https://backporch-chair-app-35851db28c9c.herokuapp.com/meeting/680
END:VEVENT
BEGIN:VEVENT
SUMMARY:Co-ed Meeting
DTSTART:20260621T083000
DTEND:20260621T093000
UID:meeting-708@backporchmeetings.org
DESCRIPTION:Co-ed\n\nChair: No chair yet
LOCATION:Online
URL:https://backporch-chair-app-35851db28c9c.herokuapp.com/meeting/708
END:VEVENT
BEGIN:VEVENT
SUMMARY:Men's Meeting
DTSTART:20260621T153000
DTEND:20260621T163000
UID:meeting-720@backporchmeetings.org
DESCRIPTION:Men only\n\nChair: No chair yet
LOCATION:Online
URL:https://backporch-chair-app-35851db28c9c.herokuapp.com/meeting/720
END:VEVENT
BEGIN:VEVENT
SUMMARY:Daily Literature-based Meeting
DTSTART:20260621T173000
DTEND:20260621T183000
UID:meeting-681@backporchmeetings.org
DESCRIPTION:AA-approved literature only\n\nChair: No chair yet
LOCATION:Online
URL:https://backporch-chair-app-35851db28c9c.herokuapp.com/meeting/681
END:VEVENT
BEGIN:VEVENT
SUMMARY:Daily Literature-based Meeting
DTSTART:20260622T173000
DTEND:20260622T183000
UID:meeting-682@backporchmeetings.org
DESCRIPTION:AA-approved literature only\n\nChair: No chair yet
LOCATION:Online
URL:https://backporch-chair-app-35851db28c9c.herokuapp.com/meeting/682
END:VEVENT
BEGIN:VEVENT
SUMMARY:Daily Literature-based Meeting
DTSTART:20260623T173000
DTEND:20260623T183000
UID:meeting-683@backporchmeetings.org
DESCRIPTION:AA-approved literature only\n\nChair: No chair yet
LOCATION:Online
URL:https://backporch-chair-app-35851db28c9c.herokuapp.com/meeting/683
END:VEVENT
BEGIN:VEVENT
SUMMARY:Daily Literature-based Meeting
DTSTART:20260624T173000
DTEND:20260624T183000
UID:meeting-684@backporchmeetings.org
DESCRIPTION:AA-approved literature only\n\nChair: No chair yet
LOCATION:Online
URL:https://backporch-chair-app-35851db28c9c.herokuapp.com/meeting/684
END:VEVENT
END:VCALENDAR
