BEGIN:VCALENDAR
VERSION:2.0
PRODID:-//Back Porch Meetings//backporchmeetings.org//
X-WR-CALNAME:Back Porch Chairperson Calendar - May 2026
BEGIN:VEVENT
SUMMARY:Daily Literature-based Meeting
DTSTART:20260501T173000
DTEND:20260501T183000
UID:meeting-630@backporchmeetings.org
DESCRIPTION:AA-approved literature only\n\nChair: No chair yet
LOCATION:Online
URL:https://backporch-chair-app-35851db28c9c.herokuapp.com/meeting/630
END:VEVENT
BEGIN:VEVENT
SUMMARY:Women's Meeting
DTSTART:20260502T083000
DTEND:20260502T093000
UID:meeting-689@backporchmeetings.org
DESCRIPTION:Women only\n\nChair: No chair yet
LOCATION:Online
URL:https://backporch-chair-app-35851db28c9c.herokuapp.com/meeting/689
END:VEVENT
BEGIN:VEVENT
SUMMARY:Daily Literature-based Meeting
DTSTART:20260502T173000
DTEND:20260502T183000
UID:meeting-631@backporchmeetings.org
DESCRIPTION:AA-approved literature only\n\nChair: No chair yet
LOCATION:Online
URL:https://backporch-chair-app-35851db28c9c.herokuapp.com/meeting/631
END:VEVENT
BEGIN:VEVENT
SUMMARY:Co-ed Meeting
DTSTART:20260503T083000
DTEND:20260503T093000
UID:meeting-701@backporchmeetings.org
DESCRIPTION:Co-ed\n\nChair: No chair yet
LOCATION:Online
URL:https://backporch-chair-app-35851db28c9c.herokuapp.com/meeting/701
END:VEVENT
BEGIN:VEVENT
SUMMARY:Men's Meeting
DTSTART:20260503T153000
DTEND:20260503T163000
UID:meeting-713@backporchmeetings.org
DESCRIPTION:Men only\n\nChair: No chair yet
LOCATION:Online
URL:https://backporch-chair-app-35851db28c9c.herokuapp.com/meeting/713
END:VEVENT
BEGIN:VEVENT
SUMMARY:Daily Literature-based Meeting
DTSTART:20260503T173000
DTEND:20260503T183000
UID:meeting-632@backporchmeetings.org
DESCRIPTION:AA-approved literature only\n\nChair: Jeff The Genius (BP-1002
 )
LOCATION:Online
URL:https://backporch-chair-app-35851db28c9c.herokuapp.com/meeting/632
END:VEVENT
BEGIN:VEVENT
SUMMARY:Daily Literature-based Meeting
DTSTART:20260504T173000
DTEND:20260504T183000
UID:meeting-633@backporchmeetings.org
DESCRIPTION:AA-approved literature only\n\nChair: No chair yet
LOCATION:Online
URL:https://backporch-chair-app-35851db28c9c.herokuapp.com/meeting/633
END:VEVENT
BEGIN:VEVENT
SUMMARY:Daily Literature-based Meeting
DTSTART:20260505T173000
DTEND:20260505T183000
UID:meeting-634@backporchmeetings.org
DESCRIPTION:AA-approved literature only\n\nChair: No chair yet
LOCATION:Online
URL:https://backporch-chair-app-35851db28c9c.herokuapp.com/meeting/634
END:VEVENT
BEGIN:VEVENT
SUMMARY:Daily Literature-based Meeting
DTSTART:20260506T173000
DTEND:20260506T183000
UID:meeting-635@backporchmeetings.org
DESCRIPTION:AA-approved literature only\n\nChair: No chair yet
LOCATION:Online
URL:https://backporch-chair-app-35851db28c9c.herokuapp.com/meeting/635
END:VEVENT
BEGIN:VEVENT
SUMMARY:Daily Literature-based Meeting
DTSTART:20260507T173000
DTEND:20260507T183000
UID:meeting-636@backporchmeetings.org
DESCRIPTION:AA-approved literature only\n\nChair: No chair yet
LOCATION:Online
URL:https://backporch-chair-app-35851db28c9c.herokuapp.com/meeting/636
END:VEVENT
BEGIN:VEVENT
SUMMARY:Daily Literature-based Meeting
DTSTART:20260508T173000
DTEND:20260508T183000
UID:meeting-637@backporchmeetings.org
DESCRIPTION:AA-approved literature only\n\nChair: No chair yet
LOCATION:Online
URL:https://backporch-chair-app-35851db28c9c.herokuapp.com/meeting/637
END:VEVENT
BEGIN:VEVENT
SUMMARY:Women's Meeting
DTSTART:20260509T083000
DTEND:20260509T093000
UID:meeting-690@backporchmeetings.org
DESCRIPTION:Women only\n\nChair: No chair yet
LOCATION:Online
URL:https://backporch-chair-app-35851db28c9c.herokuapp.com/meeting/690
END:VEVENT
BEGIN:VEVENT
SUMMARY:Daily Literature-based Meeting
DTSTART:20260509T173000
DTEND:20260509T183000
UID:meeting-638@backporchmeetings.org
DESCRIPTION:AA-approved literature only\n\nChair: No chair yet
LOCATION:Online
URL:https://backporch-chair-app-35851db28c9c.herokuapp.com/meeting/638
END:VEVENT
BEGIN:VEVENT
SUMMARY:Co-ed Meeting
DTSTART:20260510T083000
DTEND:20260510T093000
UID:meeting-702@backporchmeetings.org
DESCRIPTION:Co-ed\n\nChair: No chair yet
LOCATION:Online
URL:https://backporch-chair-app-35851db28c9c.herokuapp.com/meeting/702
END:VEVENT
BEGIN:VEVENT
SUMMARY:Men's Meeting
DTSTART:20260510T153000
DTEND:20260510T163000
UID:meeting-714@backporchmeetings.org
DESCRIPTION:Men only\n\nChair: No chair yet
LOCATION:Online
URL:https://backporch-chair-app-35851db28c9c.herokuapp.com/meeting/714
END:VEVENT
BEGIN:VEVENT
SUMMARY:Daily Literature-based Meeting
DTSTART:20260510T173000
DTEND:20260510T183000
UID:meeting-639@backporchmeetings.org
DESCRIPTION:AA-approved literature only\n\nChair: Jeff The Genius (BP-1002
 )
LOCATION:Online
URL:https://backporch-chair-app-35851db28c9c.herokuapp.com/meeting/639
END:VEVENT
BEGIN:VEVENT
SUMMARY:Daily Literature-based Meeting
DTSTART:20260511T173000
DTEND:20260511T183000
UID:meeting-640@backporchmeetings.org
DESCRIPTION:AA-approved literature only\n\nChair: No chair yet
LOCATION:Online
URL:https://backporch-chair-app-35851db28c9c.herokuapp.com/meeting/640
END:VEVENT
BEGIN:VEVENT
SUMMARY:Daily Literature-based Meeting
DTSTART:20260512T173000
DTEND:20260512T183000
UID:meeting-641@backporchmeetings.org
DESCRIPTION:AA-approved literature only\n\nChair: No chair yet
LOCATION:Online
URL:https://backporch-chair-app-35851db28c9c.herokuapp.com/meeting/641
END:VEVENT
BEGIN:VEVENT
SUMMARY:Daily Literature-based Meeting
DTSTART:20260513T173000
DTEND:20260513T183000
UID:meeting-642@backporchmeetings.org
DESCRIPTION:AA-approved literature only\n\nChair: No chair yet
LOCATION:Online
URL:https://backporch-chair-app-35851db28c9c.herokuapp.com/meeting/642
END:VEVENT
BEGIN:VEVENT
SUMMARY:Daily Literature-based Meeting
DTSTART:20260514T173000
DTEND:20260514T183000
UID:meeting-643@backporchmeetings.org
DESCRIPTION:AA-approved literature only\n\nChair: No chair yet
LOCATION:Online
URL:https://backporch-chair-app-35851db28c9c.herokuapp.com/meeting/643
END:VEVENT
BEGIN:VEVENT
SUMMARY:Daily Literature-based Meeting
DTSTART:20260515T173000
DTEND:20260515T183000
UID:meeting-644@backporchmeetings.org
DESCRIPTION:AA-approved literature only\n\nChair: No chair yet
LOCATION:Online
URL:https://backporch-chair-app-35851db28c9c.herokuapp.com/meeting/644
END:VEVENT
BEGIN:VEVENT
SUMMARY:Women's Meeting
DTSTART:20260516T083000
DTEND:20260516T093000
UID:meeting-691@backporchmeetings.org
DESCRIPTION:Women only\n\nChair: No chair yet
LOCATION:Online
URL:https://backporch-chair-app-35851db28c9c.herokuapp.com/meeting/691
END:VEVENT
BEGIN:VEVENT
SUMMARY:Daily Literature-based Meeting
DTSTART:20260516T173000
DTEND:20260516T183000
UID:meeting-645@backporchmeetings.org
DESCRIPTION:AA-approved literature only\n\nChair: No chair yet
LOCATION:Online
URL:https://backporch-chair-app-35851db28c9c.herokuapp.com/meeting/645
END:VEVENT
BEGIN:VEVENT
SUMMARY:Co-ed Meeting
DTSTART:20260517T083000
DTEND:20260517T093000
UID:meeting-703@backporchmeetings.org
DESCRIPTION:Co-ed\n\nChair: No chair yet
LOCATION:Online
URL:https://backporch-chair-app-35851db28c9c.herokuapp.com/meeting/703
END:VEVENT
BEGIN:VEVENT
SUMMARY:Men's Meeting
DTSTART:20260517T153000
DTEND:20260517T163000
UID:meeting-715@backporchmeetings.org
DESCRIPTION:Men only\n\nChair: No chair yet
LOCATION:Online
URL:https://backporch-chair-app-35851db28c9c.herokuapp.com/meeting/715
END:VEVENT
BEGIN:VEVENT
SUMMARY:Daily Literature-based Meeting
DTSTART:20260517T173000
DTEND:20260517T183000
UID:meeting-646@backporchmeetings.org
DESCRIPTION:AA-approved literature only\n\nChair: Jeff The Genius (BP-1002
 )
LOCATION:Online
URL:https://backporch-chair-app-35851db28c9c.herokuapp.com/meeting/646
END:VEVENT
BEGIN:VEVENT
SUMMARY:Daily Literature-based Meeting
DTSTART:20260518T173000
DTEND:20260518T183000
UID:meeting-647@backporchmeetings.org
DESCRIPTION:AA-approved literature only\n\nChair: No chair yet
LOCATION:Online
URL:https://backporch-chair-app-35851db28c9c.herokuapp.com/meeting/647
END:VEVENT
BEGIN:VEVENT
SUMMARY:Daily Literature-based Meeting
DTSTART:20260519T173000
DTEND:20260519T183000
UID:meeting-648@backporchmeetings.org
DESCRIPTION:AA-approved literature only\n\nChair: No chair yet
LOCATION:Online
URL:https://backporch-chair-app-35851db28c9c.herokuapp.com/meeting/648
END:VEVENT
BEGIN:VEVENT
SUMMARY:Daily Literature-based Meeting
DTSTART:20260520T173000
DTEND:20260520T183000
UID:meeting-649@backporchmeetings.org
DESCRIPTION:AA-approved literature only\n\nChair: No chair yet
LOCATION:Online
URL:https://backporch-chair-app-35851db28c9c.herokuapp.com/meeting/649
END:VEVENT
BEGIN:VEVENT
SUMMARY:Daily Literature-based Meeting
DTSTART:20260521T173000
DTEND:20260521T183000
UID:meeting-650@backporchmeetings.org
DESCRIPTION:AA-approved literature only\n\nChair: No chair yet
LOCATION:Online
URL:https://backporch-chair-app-35851db28c9c.herokuapp.com/meeting/650
END:VEVENT
BEGIN:VEVENT
SUMMARY:Daily Literature-based Meeting
DTSTART:20260522T173000
DTEND:20260522T183000
UID:meeting-651@backporchmeetings.org
DESCRIPTION:AA-approved literature only\n\nChair: No chair yet
LOCATION:Online
URL:https://backporch-chair-app-35851db28c9c.herokuapp.com/meeting/651
END:VEVENT
BEGIN:VEVENT
SUMMARY:Women's Meeting
DTSTART:20260523T083000
DTEND:20260523T093000
UID:meeting-692@backporchmeetings.org
DESCRIPTION:Women only\n\nChair: No chair yet
LOCATION:Online
URL:https://backporch-chair-app-35851db28c9c.herokuapp.com/meeting/692
END:VEVENT
BEGIN:VEVENT
SUMMARY:Daily Literature-based Meeting
DTSTART:20260523T173000
DTEND:20260523T183000
UID:meeting-652@backporchmeetings.org
DESCRIPTION:AA-approved literature only\n\nChair: No chair yet
LOCATION:Online
URL:https://backporch-chair-app-35851db28c9c.herokuapp.com/meeting/652
END:VEVENT
BEGIN:VEVENT
SUMMARY:Co-ed Meeting
DTSTART:20260524T083000
DTEND:20260524T093000
UID:meeting-704@backporchmeetings.org
DESCRIPTION:Co-ed\n\nChair: No chair yet
LOCATION:Online
URL:https://backporch-chair-app-35851db28c9c.herokuapp.com/meeting/704
END:VEVENT
BEGIN:VEVENT
SUMMARY:Men's Meeting
DTSTART:20260524T153000
DTEND:20260524T163000
UID:meeting-716@backporchmeetings.org
DESCRIPTION:Men only\n\nChair: No chair yet
LOCATION:Online
URL:https://backporch-chair-app-35851db28c9c.herokuapp.com/meeting/716
END:VEVENT
BEGIN:VEVENT
SUMMARY:Daily Literature-based Meeting
DTSTART:20260524T173000
DTEND:20260524T183000
UID:meeting-653@backporchmeetings.org
DESCRIPTION:AA-approved literature only\n\nChair: Jeff The Genius (BP-1002
 )
LOCATION:Online
URL:https://backporch-chair-app-35851db28c9c.herokuapp.com/meeting/653
END:VEVENT
BEGIN:VEVENT
SUMMARY:Daily Literature-based Meeting
DTSTART:20260525T173000
DTEND:20260525T183000
UID:meeting-654@backporchmeetings.org
DESCRIPTION:AA-approved literature only\n\nChair: No chair yet
LOCATION:Online
URL:https://backporch-chair-app-35851db28c9c.herokuapp.com/meeting/654
END:VEVENT
BEGIN:VEVENT
SUMMARY:Daily Literature-based Meeting
DTSTART:20260526T173000
DTEND:20260526T183000
UID:meeting-655@backporchmeetings.org
DESCRIPTION:AA-approved literature only\n\nChair: No chair yet
LOCATION:Online
URL:https://backporch-chair-app-35851db28c9c.herokuapp.com/meeting/655
END:VEVENT
BEGIN:VEVENT
SUMMARY:Daily Literature-based Meeting
DTSTART:20260527T173000
DTEND:20260527T183000
UID:meeting-656@backporchmeetings.org
DESCRIPTION:AA-approved literature only\n\nChair: No chair yet
LOCATION:Online
URL:https://backporch-chair-app-35851db28c9c.herokuapp.com/meeting/656
END:VEVENT
BEGIN:VEVENT
SUMMARY:Daily Literature-based Meeting
DTSTART:20260528T173000
DTEND:20260528T183000
UID:meeting-657@backporchmeetings.org
DESCRIPTION:AA-approved literature only\n\nChair: No chair yet
LOCATION:Online
URL:https://backporch-chair-app-35851db28c9c.herokuapp.com/meeting/657
END:VEVENT
BEGIN:VEVENT
SUMMARY:Daily Literature-based Meeting
DTSTART:20260529T173000
DTEND:20260529T183000
UID:meeting-658@backporchmeetings.org
DESCRIPTION:AA-approved literature only\n\nChair: No chair yet
LOCATION:Online
URL:https://backporch-chair-app-35851db28c9c.herokuapp.com/meeting/658
END:VEVENT
BEGIN:VEVENT
SUMMARY:Women's Meeting
DTSTART:20260530T083000
DTEND:20260530T093000
UID:meeting-693@backporchmeetings.org
DESCRIPTION:Women only\n\nChair: No chair yet
LOCATION:Online
URL:https://backporch-chair-app-35851db28c9c.herokuapp.com/meeting/693
END:VEVENT
BEGIN:VEVENT
SUMMARY:Daily Literature-based Meeting
DTSTART:20260530T173000
DTEND:20260530T183000
UID:meeting-659@backporchmeetings.org
DESCRIPTION:AA-approved literature only\n\nChair: No chair yet
LOCATION:Online
URL:https://backporch-chair-app-35851db28c9c.herokuapp.com/meeting/659
END:VEVENT
BEGIN:VEVENT
SUMMARY:Co-ed Meeting
DTSTART:20260531T083000
DTEND:20260531T093000
UID:meeting-705@backporchmeetings.org
DESCRIPTION:Co-ed\n\nChair: No chair yet
LOCATION:Online
URL:https://backporch-chair-app-35851db28c9c.herokuapp.com/meeting/705
END:VEVENT
BEGIN:VEVENT
SUMMARY:Men's Meeting
DTSTART:20260531T153000
DTEND:20260531T163000
UID:meeting-717@backporchmeetings.org
DESCRIPTION:Men only\n\nChair: No chair yet
LOCATION:Online
URL:https://backporch-chair-app-35851db28c9c.herokuapp.com/meeting/717
END:VEVENT
BEGIN:VEVENT
SUMMARY:Daily Literature-based Meeting
DTSTART:20260531T173000
DTEND:20260531T183000
UID:meeting-660@backporchmeetings.org
DESCRIPTION:AA-approved literature only\n\nChair: Jeff The Genius (BP-1002
 )
LOCATION:Online
URL:https://backporch-chair-app-35851db28c9c.herokuapp.com/meeting/660
END:VEVENT
END:VCALENDAR
