BEGIN:VCALENDAR
VERSION:2.0
PRODID:-//Back Porch Meetings//backporchmeetings.org//
X-WR-CALNAME:Back Porch Meetings - June 21\, 2026
BEGIN:VEVENT
SUMMARY:Co-ed Meeting
DTSTART:20260621T083000
DTEND:20260621T093000
UID:meeting-708@backporchmeetings.org
DESCRIPTION:Co-ed\n\nChair: No chair yet
LOCATION:Online
URL:https://backporch-chair-app-35851db28c9c.herokuapp.com/meeting/708
END:VEVENT
BEGIN:VEVENT
SUMMARY:Men's Meeting
DTSTART:20260621T153000
DTEND:20260621T163000
UID:meeting-720@backporchmeetings.org
DESCRIPTION:Men only\n\nChair: No chair yet
LOCATION:Online
URL:https://backporch-chair-app-35851db28c9c.herokuapp.com/meeting/720
END:VEVENT
BEGIN:VEVENT
SUMMARY:Daily Literature-based Meeting
DTSTART:20260621T173000
DTEND:20260621T183000
UID:meeting-681@backporchmeetings.org
DESCRIPTION:AA-approved literature only\n\nChair: No chair yet
LOCATION:Online
URL:https://backporch-chair-app-35851db28c9c.herokuapp.com/meeting/681
END:VEVENT
END:VCALENDAR
